BEGIN:VCALENDAR
VERSION:2.0
PRODID:-//Tukios.com/
BEGIN:VEVENT
UID:0f88b50d-e958-4c7c-9635-83aaf0e4ac3f@www.bellmortuarymt.com
DTSTAMP:20260420T080915Z
DTSTART:20260418T210000Z
DTEND:20260418T220000Z
SUMMARY:Memorial Service
DESCRIPTION:
URL:https://www.bellmortuarymt.com/obituaries/amos-erickson
LOCATION: 641 2nd Avenue North  Glasgow MT 59230
GEO:48.1979718;-106.6370107
END:VEVENT
END:VCALENDAR